Package: ccrepe Version: 1.36.0 Command: chmod a+r ccrepe -R && F:\biocbuild\bbs-3.17-bioc\R\bin\R.exe CMD build --keep-empty-dirs --no-resave-data ccrepe StartedAt: 2023-10-15 17:56:36 -0400 (Sun, 15 Oct 2023) EndedAt: 2023-10-15 17:56:57 -0400 (Sun, 15 Oct 2023) EllapsedTime: 21.6 seconds RetCode: 0 Status: OK PackageFile: ccrepe_1.36.0.tar.gz PackageFileSize: 305 KiB