Package: ccrepe Version: 1.36.0 Command: F:\biocbuild\bbs-3.17-bioc\R\bin\R.exe CMD INSTALL ccrepe StartedAt: 2023-10-15 15:47:48 -0400 (Sun, 15 Oct 2023) EndedAt: 2023-10-15 15:48:02 -0400 (Sun, 15 Oct 2023) EllapsedTime: 14.0 seconds RetCode: 0 Status: OK