Package: cellity Version: 1.28.0 Command: rm -rf cellity.buildbin-libdir && mkdir cellity.buildbin-libdir && /Users/biocbuild/BBS/utils/build-universal.sh cellity_1.28.0.tar.gz /Library/Frameworks/R.framework/Resources/bin/R cellity.buildbin-libdir StartedAt: 2023-10-16 09:06:18 -0400 (Mon, 16 Oct 2023) EndedAt: 2023-10-16 09:07:18 -0400 (Mon, 16 Oct 2023) EllapsedTime: 59.5 seconds RetCode: 0 Status: OK PackageFile: cellity_1.28.0.tgz PackageFileSize: 1.413 MiB