Package: cellscape Version: 1.24.0 Command: /Library/Frameworks/R.framework/Resources/bin/R CMD check --install=check:cellscape.install-out.txt --library=/Library/Frameworks/R.framework/Resources/library --no-vignettes --timings cellscape_1.24.0.tar.gz StartedAt: 2023-10-15 23:35:41 -0400 (Sun, 15 Oct 2023) EndedAt: 2023-10-15 23:36:38 -0400 (Sun, 15 Oct 2023) EllapsedTime: 57.3 seconds RetCode: 0 Status: WARNINGS CheckDir: cellscape.Rcheck Warnings: 1