Package: cellscape Version: 1.24.0 Command: /home/biocbuild/bbs-3.17-bioc/R/bin/R CMD build --keep-empty-dirs --no-resave-data cellscape StartedAt: 2023-10-15 16:14:44 -0400 (Sun, 15 Oct 2023) EndedAt: 2023-10-15 16:15:05 -0400 (Sun, 15 Oct 2023) EllapsedTime: 21.2 seconds RetCode: 0 Status: OK PackageFile: cellscape_1.24.0.tar.gz PackageFileSize: 1.095 MiB