Package: censcyt Version: 1.8.0 Command: /home/biocbuild/bbs-3.17-bioc/R/bin/R CMD INSTALL censcyt StartedAt: 2023-10-15 15:46:01 -0400 (Sun, 15 Oct 2023) EndedAt: 2023-10-15 15:46:31 -0400 (Sun, 15 Oct 2023) EllapsedTime: 29.1 seconds RetCode: 0 Status: OK