Package: censcyt Version: 1.8.0 Command: rm -rf censcyt.buildbin-libdir && mkdir censcyt.buildbin-libdir && F:\biocbuild\bbs-3.17-bioc\R\bin\R.exe CMD INSTALL --build --library=censcyt.buildbin-libdir censcyt_1.8.0.tar.gz StartedAt: 2023-10-16 08:33:21 -0400 (Mon, 16 Oct 2023) EndedAt: 2023-10-16 08:33:58 -0400 (Mon, 16 Oct 2023) EllapsedTime: 36.6 seconds RetCode: 0 Status: OK PackageFile: censcyt_1.8.0.zip PackageFileSize: 451.9 KiB