Package: censcyt Version: 1.8.0 Command: chmod a+r censcyt -R && F:\biocbuild\bbs-3.17-bioc\R\bin\R.exe CMD build --keep-empty-dirs --no-resave-data censcyt StartedAt: 2023-10-15 18:00:25 -0400 (Sun, 15 Oct 2023) EndedAt: 2023-10-15 18:01:53 -0400 (Sun, 15 Oct 2023) EllapsedTime: 87.9 seconds RetCode: 0 Status: OK PackageFile: censcyt_1.8.0.tar.gz PackageFileSize: 352.5 KiB