Package: censcyt Version: 1.8.0 Command: F:\biocbuild\bbs-3.17-bioc\R\bin\R.exe CMD INSTALL censcyt StartedAt: 2023-10-15 16:58:35 -0400 (Sun, 15 Oct 2023) EndedAt: 2023-10-15 16:59:09 -0400 (Sun, 15 Oct 2023) EllapsedTime: 34.1 seconds RetCode: 0 Status: OK