Package: cfTools Version: 1.0.0 Command: rm -rf cfTools.buildbin-libdir && mkdir cfTools.buildbin-libdir && F:\biocbuild\bbs-3.17-bioc\R\bin\R.exe CMD INSTALL --build --library=cfTools.buildbin-libdir cfTools_1.0.0.tar.gz StartedAt: 2023-10-16 08:33:33 -0400 (Mon, 16 Oct 2023) EndedAt: 2023-10-16 08:34:49 -0400 (Mon, 16 Oct 2023) EllapsedTime: 76.3 seconds RetCode: 0 Status: OK PackageFile: cfTools_1.0.0.zip PackageFileSize: 920 KiB