Package: cfTools Version: 1.0.0 Command: chmod a+r cfTools -R && F:\biocbuild\bbs-3.17-bioc\R\bin\R.exe --arch x64 CMD build --keep-empty-dirs --no-resave-data cfTools StartedAt: 2023-10-15 18:01:32 -0400 (Sun, 15 Oct 2023) EndedAt: 2023-10-15 18:03:11 -0400 (Sun, 15 Oct 2023) EllapsedTime: 99.2 seconds RetCode: 0 Status: OK PackageFile: cfTools_1.0.0.tar.gz PackageFileSize: 470.2 KiB