Package: cfTools Version: 1.0.0 Command: F:\biocbuild\bbs-3.17-bioc\R\bin\R.exe CMD check --no-multiarch --install=check:cfTools.install-out.txt --library=F:\biocbuild\bbs-3.17-bioc\R\library --no-vignettes --timings cfTools_1.0.0.tar.gz StartedAt: 2023-10-16 00:28:31 -0400 (Mon, 16 Oct 2023) EndedAt: 2023-10-16 00:31:11 -0400 (Mon, 16 Oct 2023) EllapsedTime: 159.6 seconds RetCode: 0 Status: OK CheckDir: cfTools.Rcheck Warnings: 0