Package: chimeraviz Version: 1.26.0 Command: F:\biocbuild\bbs-3.17-bioc\R\bin\R.exe CMD INSTALL chimeraviz StartedAt: 2023-10-15 16:27:18 -0400 (Sun, 15 Oct 2023) EndedAt: 2023-10-15 16:28:23 -0400 (Sun, 15 Oct 2023) EllapsedTime: 65.5 seconds RetCode: 0 Status: OK