Package: chipenrich Version: 2.24.0 Command: rm -rf chipenrich.buildbin-libdir && mkdir chipenrich.buildbin-libdir && F:\biocbuild\bbs-3.17-bioc\R\bin\R.exe CMD INSTALL --build --library=chipenrich.buildbin-libdir chipenrich_2.24.0.tar.gz StartedAt: 2023-10-16 08:34:05 -0400 (Mon, 16 Oct 2023) EndedAt: 2023-10-16 08:34:55 -0400 (Mon, 16 Oct 2023) EllapsedTime: 49.9 seconds RetCode: 0 Status: OK PackageFile: chipenrich_2.24.0.zip PackageFileSize: 669.4 KiB