Package: chipenrich Version: 2.24.0 Command: chmod a+r chipenrich -R && F:\biocbuild\bbs-3.17-bioc\R\bin\R.exe CMD build --keep-empty-dirs --no-resave-data chipenrich StartedAt: 2023-10-15 18:03:59 -0400 (Sun, 15 Oct 2023) EndedAt: 2023-10-15 18:05:46 -0400 (Sun, 15 Oct 2023) EllapsedTime: 107.1 seconds RetCode: 0 Status: OK PackageFile: chipenrich_2.24.0.tar.gz PackageFileSize: 439.4 KiB