Package: chopsticks Version: 1.66.0 Command: /Library/Frameworks/R.framework/Resources/bin/R CMD INSTALL chopsticks StartedAt: 2023-10-15 15:59:02 -0400 (Sun, 15 Oct 2023) EndedAt: 2023-10-15 15:59:51 -0400 (Sun, 15 Oct 2023) EllapsedTime: 48.7 seconds RetCode: 0 Status: OK