Package: chopsticks Version: 1.66.0 Command: /home/biocbuild/bbs-3.17-bioc/R/bin/R CMD check --install=check:chopsticks.install-out.txt --library=/home/biocbuild/bbs-3.17-bioc/R/site-library --timings chopsticks_1.66.0.tar.gz StartedAt: 2023-10-15 20:03:42 -0400 (Sun, 15 Oct 2023) EndedAt: 2023-10-15 20:04:52 -0400 (Sun, 15 Oct 2023) EllapsedTime: 69.9 seconds RetCode: 0 Status: WARNINGS CheckDir: chopsticks.Rcheck Warnings: 3