Package: chromVAR Version: 1.22.1 Command: rm -rf chromVAR.buildbin-libdir && mkdir chromVAR.buildbin-libdir && /Users/biocbuild/BBS/utils/build-universal.sh chromVAR_1.22.1.tar.gz /Library/Frameworks/R.framework/Resources/bin/R chromVAR.buildbin-libdir StartedAt: 2023-10-02 09:23:39 -0400 (Mon, 02 Oct 2023) EndedAt: 2023-10-02 09:27:34 -0400 (Mon, 02 Oct 2023) EllapsedTime: 235.0 seconds RetCode: 0 Status: OK PackageFile: chromVAR_1.22.1.tgz PackageFileSize: 1.429 MiB