Package: chromVAR Version: 1.22.1 Command: /home/biocbuild/bbs-3.17-bioc/R/bin/R CMD build --keep-empty-dirs --no-resave-data chromVAR StartedAt: 2023-10-15 16:18:33 -0400 (Sun, 15 Oct 2023) EndedAt: 2023-10-15 16:21:18 -0400 (Sun, 15 Oct 2023) EllapsedTime: 165.1 seconds RetCode: 0 Status: OK PackageFile: chromVAR_1.22.1.tar.gz PackageFileSize: 461.7 KiB