Package: chromVAR Version: 1.22.1 Command: /home/biocbuild/bbs-3.17-bioc/R/bin/R CMD INSTALL chromVAR StartedAt: 2023-10-15 15:29:05 -0400 (Sun, 15 Oct 2023) EndedAt: 2023-10-15 15:30:15 -0400 (Sun, 15 Oct 2023) EllapsedTime: 69.7 seconds RetCode: 0 Status: OK