Package: chromVAR Version: 1.22.1 Command: rm -rf chromVAR.buildbin-libdir && mkdir chromVAR.buildbin-libdir && F:\biocbuild\bbs-3.17-bioc\R\bin\R.exe CMD INSTALL --build --library=chromVAR.buildbin-libdir chromVAR_1.22.1.tar.gz StartedAt: 2023-10-16 08:34:57 -0400 (Mon, 16 Oct 2023) EndedAt: 2023-10-16 08:36:27 -0400 (Mon, 16 Oct 2023) EllapsedTime: 89.9 seconds RetCode: 0 Status: OK PackageFile: chromVAR_1.22.1.zip PackageFileSize: 1.702 MiB