Package: chromVAR Version: 1.22.1 Command: F:\biocbuild\bbs-3.17-bioc\R\bin\R.exe CMD INSTALL chromVAR StartedAt: 2023-10-15 16:28:01 -0400 (Sun, 15 Oct 2023) EndedAt: 2023-10-15 16:29:31 -0400 (Sun, 15 Oct 2023) EllapsedTime: 89.6 seconds RetCode: 0 Status: OK