Package: chromswitch Version: 1.22.0 Command: /Library/Frameworks/R.framework/Resources/bin/R CMD build --keep-empty-dirs --no-resave-data chromswitch StartedAt: 2023-10-15 17:25:26 -0400 (Sun, 15 Oct 2023) EndedAt: 2023-10-15 17:27:52 -0400 (Sun, 15 Oct 2023) EllapsedTime: 145.3 seconds RetCode: 0 Status: OK PackageFile: chromswitch_1.22.0.tar.gz PackageFileSize: 2.293 MiB