Package: chromswitch Version: 1.22.0 Command: /home/biocbuild/bbs-3.17-bioc/R/bin/R CMD build --keep-empty-dirs --no-resave-data chromswitch StartedAt: 2023-10-15 16:18:29 -0400 (Sun, 15 Oct 2023) EndedAt: 2023-10-15 16:19:32 -0400 (Sun, 15 Oct 2023) EllapsedTime: 62.7 seconds RetCode: 0 Status: OK PackageFile: chromswitch_1.22.0.tar.gz PackageFileSize: 2.293 MiB