Package: clevRvis Version: 1.0.0 Command: rm -rf clevRvis.buildbin-libdir && mkdir clevRvis.buildbin-libdir && F:\biocbuild\bbs-3.17-bioc\R\bin\R.exe CMD INSTALL --build --library=clevRvis.buildbin-libdir clevRvis_1.0.0.tar.gz StartedAt: 2023-10-16 08:35:27 -0400 (Mon, 16 Oct 2023) EndedAt: 2023-10-16 08:35:59 -0400 (Mon, 16 Oct 2023) EllapsedTime: 32.0 seconds RetCode: 0 Status: OK PackageFile: clevRvis_1.0.0.zip PackageFileSize: 2.249 MiB