Package: clustComp Version: 1.28.0 Command: /Library/Frameworks/R.framework/Resources/bin/R CMD INSTALL clustComp StartedAt: 2023-10-15 15:03:46 -0400 (Sun, 15 Oct 2023) EndedAt: 2023-10-15 15:04:10 -0400 (Sun, 15 Oct 2023) EllapsedTime: 24.5 seconds RetCode: 0 Status: OK