Package: clustComp Version: 1.28.0 Command: chmod a+r clustComp -R && F:\biocbuild\bbs-3.17-bioc\R\bin\R.exe CMD build --keep-empty-dirs --no-resave-data clustComp StartedAt: 2023-10-15 18:11:45 -0400 (Sun, 15 Oct 2023) EndedAt: 2023-10-15 18:12:45 -0400 (Sun, 15 Oct 2023) EllapsedTime: 60.0 seconds RetCode: 0 Status: OK PackageFile: clustComp_1.28.0.tar.gz PackageFileSize: 798.8 KiB