Package: clustComp Version: 1.28.0 Command: F:\biocbuild\bbs-3.17-bioc\R\bin\R.exe CMD check --no-multiarch --install=check:clustComp.install-out.txt --library=F:\biocbuild\bbs-3.17-bioc\R\library --no-vignettes --timings clustComp_1.28.0.tar.gz StartedAt: 2023-10-16 00:41:54 -0400 (Mon, 16 Oct 2023) EndedAt: 2023-10-16 00:42:21 -0400 (Mon, 16 Oct 2023) EllapsedTime: 26.8 seconds RetCode: 0 Status: OK CheckDir: clustComp.Rcheck Warnings: 0