Package: clustComp Version: 1.28.0 Command: F:\biocbuild\bbs-3.17-bioc\R\bin\R.exe CMD INSTALL clustComp StartedAt: 2023-10-15 15:47:33 -0400 (Sun, 15 Oct 2023) EndedAt: 2023-10-15 15:47:43 -0400 (Sun, 15 Oct 2023) EllapsedTime: 10.3 seconds RetCode: 0 Status: OK