Package: cn.farms Version: 1.48.0 Command: /home/biocbuild/bbs-3.17-bioc/R/bin/R CMD build --keep-empty-dirs --no-resave-data cn.farms StartedAt: 2023-10-15 16:21:34 -0400 (Sun, 15 Oct 2023) EndedAt: 2023-10-15 16:22:17 -0400 (Sun, 15 Oct 2023) EllapsedTime: 42.8 seconds RetCode: 0 Status: OK PackageFile: cn.farms_1.48.0.tar.gz PackageFileSize: 2.237 MiB