Package: cn.farms Version: 1.48.0 Command: /home/biocbuild/bbs-3.17-bioc/R/bin/R CMD check --install=check:cn.farms.install-out.txt --library=/home/biocbuild/bbs-3.17-bioc/R/site-library --timings cn.farms_1.48.0.tar.gz StartedAt: 2023-10-15 20:11:53 -0400 (Sun, 15 Oct 2023) EndedAt: 2023-10-15 20:15:28 -0400 (Sun, 15 Oct 2023) EllapsedTime: 215.2 seconds RetCode: 0 Status: OK CheckDir: cn.farms.Rcheck Warnings: 0