Package: coMET Version: 1.32.0 Command: /Library/Frameworks/R.framework/Resources/bin/R CMD build --keep-empty-dirs --no-resave-data coMET StartedAt: 2023-10-15 17:34:11 -0400 (Sun, 15 Oct 2023) EndedAt: 2023-10-15 17:39:38 -0400 (Sun, 15 Oct 2023) EllapsedTime: 327.5 seconds RetCode: 0 Status: OK PackageFile: coMET_1.32.0.tar.gz PackageFileSize: 21.83 MiB