Package: coMET Version: 1.32.0 Command: chmod a+r coMET -R && F:\biocbuild\bbs-3.17-bioc\R\bin\R.exe CMD build --keep-empty-dirs --no-resave-data coMET StartedAt: 2023-10-15 18:18:35 -0400 (Sun, 15 Oct 2023) EndedAt: 2023-10-15 18:21:15 -0400 (Sun, 15 Oct 2023) EllapsedTime: 159.3 seconds RetCode: 0 Status: OK PackageFile: coMET_1.32.0.tar.gz PackageFileSize: 21.84 MiB