Package: cola Version: 2.6.0 Command: /Library/Frameworks/R.framework/Resources/bin/R CMD build --keep-empty-dirs --no-resave-data cola StartedAt: 2023-10-15 17:33:52 -0400 (Sun, 15 Oct 2023) EndedAt: 2023-10-15 17:35:33 -0400 (Sun, 15 Oct 2023) EllapsedTime: 101.1 seconds RetCode: 0 Status: OK PackageFile: cola_2.6.0.tar.gz PackageFileSize: 3.658 MiB