Package: cola Version: 2.6.0 Command: /home/biocbuild/bbs-3.17-bioc/R/bin/R CMD check --install=check:cola.install-out.txt --library=/home/biocbuild/bbs-3.17-bioc/R/site-library --timings cola_2.6.0.tar.gz StartedAt: 2023-10-15 20:16:07 -0400 (Sun, 15 Oct 2023) EndedAt: 2023-10-15 20:19:04 -0400 (Sun, 15 Oct 2023) EllapsedTime: 177.0 seconds RetCode: 0 Status: OK CheckDir: cola.Rcheck Warnings: 0