Package: cola Version: 2.6.0 Command: /home/biocbuild/bbs-3.17-bioc/R/bin/R CMD INSTALL cola StartedAt: 2023-10-15 15:21:54 -0400 (Sun, 15 Oct 2023) EndedAt: 2023-10-15 15:22:29 -0400 (Sun, 15 Oct 2023) EllapsedTime: 35.8 seconds RetCode: 0 Status: OK