Package: consensusSeekeR Version: 1.28.0 Command: /home/biocbuild/bbs-3.17-bioc/R/bin/R CMD build --keep-empty-dirs --no-resave-data consensusSeekeR StartedAt: 2023-10-15 16:24:48 -0400 (Sun, 15 Oct 2023) EndedAt: 2023-10-15 16:26:33 -0400 (Sun, 15 Oct 2023) EllapsedTime: 104.9 seconds RetCode: 0 Status: OK PackageFile: consensusSeekeR_1.28.0.tar.gz PackageFileSize: 738 KiB