Package: consensusSeekeR Version: 1.28.0 Command: rm -rf consensusSeekeR.buildbin-libdir && mkdir consensusSeekeR.buildbin-libdir && F:\biocbuild\bbs-3.17-bioc\R\bin\R.exe CMD INSTALL --build --library=consensusSeekeR.buildbin-libdir consensusSeekeR_1.28.0.tar.gz StartedAt: 2023-10-16 08:37:46 -0400 (Mon, 16 Oct 2023) EndedAt: 2023-10-16 08:38:20 -0400 (Mon, 16 Oct 2023) EllapsedTime: 34.1 seconds RetCode: 0 Status: OK PackageFile: consensusSeekeR_1.28.0.zip PackageFileSize: 622.5 KiB