Package: copynumber Version: 1.39.1 Command: rm -rf copynumber.buildbin-libdir && mkdir copynumber.buildbin-libdir && /Users/biocbuild/BBS/utils/build-universal.sh copynumber_1.39.1.tar.gz /Library/Frameworks/R.framework/Resources/bin/R copynumber.buildbin-libdir StartedAt: 2023-04-04 09:06:29 -0400 (Tue, 04 Apr 2023) EndedAt: 2023-04-04 09:07:18 -0400 (Tue, 04 Apr 2023) EllapsedTime: 48.5 seconds RetCode: 0 Status: OK PackageFile: copynumber_1.39.1.tgz PackageFileSize: 1.851 MiB