Package: copynumber Version: 1.40.0 Command: /Library/Frameworks/R.framework/Resources/bin/R CMD build --keep-empty-dirs --no-resave-data copynumber StartedAt: 2023-10-15 17:37:37 -0400 (Sun, 15 Oct 2023) EndedAt: 2023-10-15 17:38:42 -0400 (Sun, 15 Oct 2023) EllapsedTime: 64.9 seconds RetCode: 1 Status: ERROR PackageFile: None PackageFileSize: NA