Package: copynumber Version: 1.39.1 Command: /Library/Frameworks/R.framework/Resources/bin/R CMD check --install=check:copynumber.install-out.txt --library=/Library/Frameworks/R.framework/Resources/library --no-vignettes --timings copynumber_1.39.1.tar.gz StartedAt: 2023-04-04 00:06:47 -0400 (Tue, 04 Apr 2023) EndedAt: 2023-04-04 00:12:00 -0400 (Tue, 04 Apr 2023) EllapsedTime: 313.2 seconds RetCode: 0 Status: WARNINGS CheckDir: copynumber.Rcheck Warnings: 1