git_url: https://git.bioconductor.org/packages/cosmiq git_branch: RELEASE_3_17 git_last_commit: 67e1163 git_last_commit_date: 2023-04-25 10:32:27 -0400 (Tue, 25 Apr 2023) Package: cosmiq Version: 1.34.0 Maintainer: David Fischer MaintainerEmail: dajofischer at googlemail.com