Package: cosmosR Version: 1.8.0 Command: /Library/Frameworks/R.framework/Resources/bin/R CMD check --install=check:cosmosR.install-out.txt --library=/Library/Frameworks/R.framework/Resources/library --no-vignettes --timings cosmosR_1.8.0.tar.gz StartedAt: 2023-10-16 00:17:53 -0400 (Mon, 16 Oct 2023) EndedAt: 2023-10-16 00:20:01 -0400 (Mon, 16 Oct 2023) EllapsedTime: 127.9 seconds RetCode: 0 Status: OK CheckDir: cosmosR.Rcheck Warnings: 0