Package: cosmosR Version: 1.8.0 Command: /home/biocbuild/bbs-3.17-bioc/R/bin/R CMD build --keep-empty-dirs --no-resave-data cosmosR StartedAt: 2023-10-15 16:26:30 -0400 (Sun, 15 Oct 2023) EndedAt: 2023-10-15 16:26:41 -0400 (Sun, 15 Oct 2023) EllapsedTime: 11.3 seconds RetCode: 0 Status: OK PackageFile: cosmosR_1.8.0.tar.gz PackageFileSize: 3.357 MiB