Package: covRNA Version: 1.26.0 Command: /Library/Frameworks/R.framework/Resources/bin/R CMD build --keep-empty-dirs --no-resave-data covRNA StartedAt: 2023-10-15 17:40:45 -0400 (Sun, 15 Oct 2023) EndedAt: 2023-10-15 17:42:58 -0400 (Sun, 15 Oct 2023) EllapsedTime: 132.7 seconds RetCode: 0 Status: OK PackageFile: covRNA_1.26.0.tar.gz PackageFileSize: 546.9 KiB