Package: covRNA Version: 1.26.0 Command: /Library/Frameworks/R.framework/Resources/bin/R CMD INSTALL covRNA StartedAt: 2023-10-15 16:00:26 -0400 (Sun, 15 Oct 2023) EndedAt: 2023-10-15 16:01:26 -0400 (Sun, 15 Oct 2023) EllapsedTime: 60.3 seconds RetCode: 0 Status: OK