Package: covRNA Version: 1.26.0 Command: rm -rf covRNA.buildbin-libdir && mkdir covRNA.buildbin-libdir && F:\biocbuild\bbs-3.17-bioc\R\bin\R.exe CMD INSTALL --build --library=covRNA.buildbin-libdir covRNA_1.26.0.tar.gz StartedAt: 2023-10-16 08:38:27 -0400 (Mon, 16 Oct 2023) EndedAt: 2023-10-16 08:38:55 -0400 (Mon, 16 Oct 2023) EllapsedTime: 27.6 seconds RetCode: 0 Status: OK PackageFile: covRNA_1.26.0.zip PackageFileSize: 563.6 KiB