Package: covRNA Version: 1.26.0 Command: chmod a+r covRNA -R && F:\biocbuild\bbs-3.17-bioc\R\bin\R.exe CMD build --keep-empty-dirs --no-resave-data covRNA StartedAt: 2023-10-15 18:24:06 -0400 (Sun, 15 Oct 2023) EndedAt: 2023-10-15 18:25:08 -0400 (Sun, 15 Oct 2023) EllapsedTime: 62.2 seconds RetCode: 0 Status: OK PackageFile: covRNA_1.26.0.tar.gz PackageFileSize: 519.6 KiB