Package: crisprBowtie Version: 1.4.0 Command: rm -rf crisprBowtie.buildbin-libdir && mkdir crisprBowtie.buildbin-libdir && F:\biocbuild\bbs-3.17-bioc\R\bin\R.exe CMD INSTALL --build --library=crisprBowtie.buildbin-libdir crisprBowtie_1.4.0.tar.gz StartedAt: 2023-10-16 08:38:35 -0400 (Mon, 16 Oct 2023) EndedAt: 2023-10-16 08:39:14 -0400 (Mon, 16 Oct 2023) EllapsedTime: 39.0 seconds RetCode: 0 Status: OK PackageFile: crisprBowtie_1.4.0.zip PackageFileSize: 341.9 KiB