Package: crisprBowtie Version: 1.4.0 Command: F:\biocbuild\bbs-3.17-bioc\R\bin\R.exe CMD INSTALL crisprBowtie StartedAt: 2023-10-15 16:15:17 -0400 (Sun, 15 Oct 2023) EndedAt: 2023-10-15 16:15:53 -0400 (Sun, 15 Oct 2023) EllapsedTime: 35.7 seconds RetCode: 0 Status: OK